BEGIN:VCALENDAR
VERSION:2.0
PRODID:-//ChamberMaster//Event Calendar 2.0//EN
METHOD:PUBLISH
X-PUBLISHED-TTL:P3D
REFRESH-INTERVAL:P3D
CALSCALE:GREGORIAN
BEGIN:VEVENT
DTSTART:20141205T130000Z
DTEND:20141205T150000Z
X-MICROSOFT-CDO-ALLDAYEVENT:FALSE
SUMMARY:EPCC - 2014 Eggs & Issues December
DESCRIPTION:Featuring the 2014 Chamber Leadership School graduates!\n\nJoin us as we celebrate the graduation of our 2014 Chamber Leadership class! Enjoy a delicious breakfast buffet as the graduates present their group projects.\n\nThis year's project groups include:\n\nAmerican Cancer Society\n\nCentral Illinois Riding Therapy\n\nEast Peoria Historical Society\n\nMoms Who Care\n\nWildlife Prairie Park\n\n\n\nSocks for Santa is back!\n\nWe will be collecting socks (& mittens) at December's Eggs & Issues. Festival of Lights Queen\, AsiaKai Dang\, will be in attendance collecting the items during the event.
X-ALT-DESC;FMTTYPE=text/html:<strong>Featuring the 2014 Chamber Leadership School graduates!</strong><br />\nJoin us as we celebrate the graduation of our 2014 Chamber Leadership class! Enjoy a delicious breakfast buffet as the graduates present their group projects.<br />\n<u><strong>This year&#39\;s project groups include:</strong></u><br />\nAmerican Cancer Society<br />\nCentral Illinois Riding Therapy<br />\nEast Peoria Historical Society<br />\nMoms Who Care<br />\nWildlife Prairie Park<br />\n<br />\n<strong>Socks for Santa is back!</strong><br />\nWe will be collecting socks (&amp\; mittens) at December&#39\;s Eggs &amp\; Issues. Festival of Lights Queen\, AsiaKai Dang\, will be in attendance collecting the items during the event.
LOCATION:Par-A-Dice Hotel Ballroom 21 Blackjack Blvd East Peoria\, Il 61611
UID:e.526.915
SEQUENCE:3
DTSTAMP:20260425T115030Z
URL:http://eastpeoriachamber.chambermaster.com/events/details/epcc-2014-eggs-issues-december-12-05-2014-915
END:VEVENT

END:VCALENDAR
